BEGIN:VCALENDAR
VERSION:2.0
PRODID:-//wp-events-plugin.com//7.2.3.1//EN
TZID:America/Chicago
X-WR-TIMEZONE:America/Chicago
BEGIN:VEVENT
UID:2@americanlegion36.org
DTSTART;TZID=America/Chicago:20190912T173000
DTEND;TZID=America/Chicago:20190912T230000
DTSTAMP:20190813T173758Z
URL:https://americanlegion36.org/events/fundraiser-an-evening-of-legends-s
 aluting-our-heroes/
SUMMARY:Fundraiser: An Evening of Legends- Saluting our Heroes
DESCRIPTION:[caption id="attachment_390" align="alignnone" width="232"] Sta
 rr Promotions in association with Marty Moylan and Laura Murphy are sponso
 ring a fundraiser to benefit Post 36[/caption]
LOCATION:Manzo's Banquet Hall\, 1571 Elmhurst Rd.\, Des Plaines\, IL\, 6001
 7\, United States
X-APPLE-STRUCTURED-LOCATION;VALUE=URI;X-ADDRESS=1571 Elmhurst Rd.\, Des Pla
 ines\, IL\, 60017\, United States;X-APPLE-RADIUS=100;X-TITLE=Manzo's Banqu
 et Hall:geo:0,0
END:VEVENT
BEGIN:VEVENT
UID:4@americanlegion36.org
DTSTART;TZID=America/Chicago;VALUE=DATE:20191107
DTEND;TZID=America/Chicago;VALUE=DATE:20191111
DTSTAMP:20191022T192702Z
URL:https://americanlegion36.org/events/flag-distribution-fundraiser-2/
SUMMARY:Flag Distribution Fundraiser
DESCRIPTION:Post 36 Members distribute American Flags in Honor of Veteran's
  day and collect donations to benefit our Thanksgiving Turkey Dinner givea
 way and our Shop with A Vet program.\n\nTo Volunteer or Make a Donation ca
 ll Phil Campbell at 847-308-9343 or contact the post.
END:VEVENT
BEGIN:VEVENT
UID:5@americanlegion36.org
DTSTART;TZID=America/Chicago:20191111T110000
DTEND;TZID=America/Chicago:20191111T113000
DTSTAMP:20191022T192942Z
URL:https://americanlegion36.org/events/veterans-day-ceremony/
SUMMARY:Veteran's Day Ceremony
DESCRIPTION:Short Commemoration of Veteran's day by American Legion Post 36
LOCATION:Lake Park Veterans Memorial\, 2200 Lee Street\, Des Plaines\, IL\,
  60017\, United States
X-APPLE-STRUCTURED-LOCATION;VALUE=URI;X-ADDRESS=2200 Lee Street\, Des Plain
 es\, IL\, 60017\, United States;X-APPLE-RADIUS=100;X-TITLE=Lake Park Veter
 ans Memorial:geo:0,0
END:VEVENT
BEGIN:VEVENT
UID:6@americanlegion36.org
DTSTART;TZID=America/Chicago:20191111T114500
DTEND;TZID=America/Chicago:20191111T154500
DTSTAMP:20191022T193335Z
URL:https://americanlegion36.org/events/veterans-day-open-house/
SUMMARY:Veteran's Day Open House
DESCRIPTION:Come see the post 36 Uniform display\, meet your local Veterans
  and see what we do at the American Legion post in Des Plaines.  Light re
 freshments will be provided ALL ARE WELCOME!
END:VEVENT
BEGIN:VTIMEZONE
TZID:America/Chicago
X-LIC-LOCATION:America/Chicago
BEGIN:DAYLIGHT
DTSTART:20190310T030000
TZOFFSETFROM:-0600
TZOFFSETTO:-0500
TZNAME:CDT
END:DAYLIGHT
BEGIN:STANDARD
DTSTART:20191103T010000
TZOFFSETFROM:-0500
TZOFFSETTO:-0600
TZNAME:CST
END:STANDARD
END:VTIMEZONE
END:VCALENDAR